BEGIN:VCALENDAR
VERSION:2.0
PRODID:-//ChamberMaster//Event Calendar 2.0//EN
METHOD:PUBLISH
X-PUBLISHED-TTL:P3D
REFRESH-INTERVAL:P3D
CALSCALE:GREGORIAN
BEGIN:VEVENT
DTSTART:20230318T160000Z
DTEND:20230318T200000Z
X-MICROSOFT-CDO-ALLDAYEVENT:FALSE
SUMMARY:45th Parallel's Health Expo
DESCRIPTION:45th Parallel's Health Expo
X-ALT-DESC;FMTTYPE=text/html:45th Parallel&#39\;s Health Expo
LOCATION:45th Parallel
UID:e.249.7178
SEQUENCE:3
DTSTAMP:20260422T032736Z
URL:http://business.newrichmondchamber.com/events/details/45th-parallel-s-health-expo-7178
END:VEVENT

END:VCALENDAR
