BEGIN:VCALENDAR
VERSION:2.0
PRODID:-//ChamberMaster//Event Calendar 2.0//EN
METHOD:PUBLISH
X-PUBLISHED-TTL:P3D
REFRESH-INTERVAL:P3D
CALSCALE:GREGORIAN
BEGIN:VEVENT
DTSTART:20230312T170000Z
DTEND:20230312T210000Z
X-MICROSOFT-CDO-ALLDAYEVENT:FALSE
SUMMARY:45th Parallel's Bloody Mary Battle
DESCRIPTION:Bloody Mary Battle with a special guest - Author Stephanie Hansen\n\n*True North Cabin Cookbook
X-ALT-DESC;FMTTYPE=text/html:Bloody Mary Battle with a special guest - Author Stephanie Hansen<br />\n*True North Cabin Cookbook
LOCATION:45th Parallel
UID:e.249.7177
SEQUENCE:3
DTSTAMP:20260422T032839Z
URL:http://business.newrichmondchamber.com/events/details/45th-parallel-s-bloody-mary-battle-7177
END:VEVENT

END:VCALENDAR
