BEGIN:VCALENDAR
VERSION:2.0
PRODID:-//ChamberMaster//Event Calendar 2.0//EN
METHOD:PUBLISH
X-PUBLISHED-TTL:P3D
REFRESH-INTERVAL:P3D
CALSCALE:GREGORIAN
BEGIN:VEVENT
DTSTART;VALUE=DATE:20250710
DTEND;VALUE=DATE:20250714
TRANSP:TRANSPARENT
X-MICROSOFT-CDO-ALLDAYEVENT:TRUE
SUMMARY:2025 Fun Fest
DESCRIPTION:One of the region's most popular summer festivals\, Fun Fest attracts thousands of people each July who are drawn to great music\, great food and one of the best carnivals in the state.  The event is back again where it belongs---in the heart of downtown New Richmond!
X-ALT-DESC;FMTTYPE=text/html:One of the region&#39\;s most popular summer festivals\, Fun Fest attracts <strong>thousands</strong> of people each July who are drawn to great music\, great food and one of the best carnivals in the state.&nbsp\; The event is back again where it belongs---in the heart of downtown New Richmond!
LOCATION:Downtown New Richmond. Food Court behind Wild Badger. Beer Tent behind Champs Sports Bar and Saltie LLC. Carnival adjacent to the beer garden and food court.
UID:e.249.7742
SEQUENCE:3
DTSTAMP:20260420T050850Z
URL:http://business.newrichmondchamber.com/events/details/2025-fun-fest-7742
END:VEVENT

END:VCALENDAR
