BEGIN:VCALENDAR
VERSION:2.0
PRODID:-//ChamberMaster//Event Calendar 2.0//EN
METHOD:PUBLISH
X-PUBLISHED-TTL:P3D
REFRESH-INTERVAL:P3D
CALSCALE:GREGORIAN
BEGIN:VEVENT
DTSTART:20240821T120000Z
DTEND:20240821T131500Z
X-MICROSOFT-CDO-ALLDAYEVENT:FALSE
SUMMARY:2024 Welcome Back Educators Breakfast
DESCRIPTION:One of our favorite chamber events is approaching---and this is your chance to get your business or organization in front of New Richmond's largest employer---the School District.\n\n\n\nIf you would like to contribute to the teacher bags please email info@newrichmondchamber.com.\n\n\n\nClick register to purchase a sponsorship
X-ALT-DESC;FMTTYPE=text/html:<span style="color: rgb(37\, 78\, 112)\; font-family: Arial\, Verdana\, Helvetica\, sans-serif\; font-size: 22px\; text-align: center\;">One of our favorite chamber events is approaching---and this is your chance to get your business or organization in front of New Richmond&#39\;s largest employer---the School District.<br />\n<br />\nIf you would like to contribute to the teacher bags please email info@newrichmondchamber.com.<br />\n<br />\nClick register to purchase a sponsorship</span>
LOCATION:New Richmond High School
UID:e.249.7325
SEQUENCE:3
DTSTAMP:20260421T001133Z
URL:http://business.newrichmondchamber.com/events/details/2024-welcome-back-educators-breakfast-7325
END:VEVENT

END:VCALENDAR
