BEGIN:VCALENDAR
VERSION:2.0
PRODID:-//ChamberMaster//Event Calendar 2.0//EN
METHOD:PUBLISH
X-PUBLISHED-TTL:P3D
REFRESH-INTERVAL:P3D
CALSCALE:GREGORIAN
BEGIN:VEVENT
DTSTART;VALUE=DATE:20240531
DTEND;VALUE=DATE:20240602
TRANSP:TRANSPARENT
X-MICROSOFT-CDO-ALLDAYEVENT:TRUE
SUMMARY:2024 Park Art Fair
DESCRIPTION:The New Richmond Area Chamber of Commerce & Visitors Bureau proudly invites you to join us on May 31st & June 1\, 2024 for the  Annual Park Art Fair in scenic Mary Park.  This is the longest running Art Fair in Western Wisconsin. We hope you can joins us for our 57th year! This popular event attracts huge crowds\, and we encourage you to share the experience and join the fun.  In 2018 we were awarded a tourism grant that allowed us to extend our reach in advertising for this event and it continues to grow in popularity. We are ramping up the FREE family and kid's activities at this event and increasing our food to draw an even bigger crowd. Live music on Friday night from 6-9. Free shuttle service during peak hours on Friday and Saturday. More than 100 artists!\n\n\n\nFor vendors we have on sit security on both Friday and Saturday night. Set-up begins on Thursday afternoon (1-7pm) or Friday (8-noon).
X-ALT-DESC;FMTTYPE=text/html:<span style="color: rgb(0\, 0\, 0)\; margin: 0px\; font-family: Calibri\, sans-serif\; font-size: 11pt\;">The New Richmond Area Chamber of Commerce &amp\; Visitors Bureau proudly invites you to join us on May 31st &amp\; June 1\, 2024 for the &nbsp\;</span><span style="color: rgb(0\, 0\, 0)\; margin: 0px\; font-family: Calibri\, sans-serif\; font-size: 11pt\;">Annual Park Art Fair in scenic Mary Park.<span style="margin: 0px\;">&nbsp\; This is the longest running Art Fair in Western Wisconsin. We hope you can joins us for our 57th year!&nbsp\;</span>This popular event attracts huge crowds\, and we encourage you to share the experience and join the fun.<span style="margin: 0px\;">&nbsp\;&nbsp\;</span>In 2018 we were awarded a tourism grant that allowed us to extend our reach in advertising for this event and it continues to grow in popularity. We are ramping up the FREE family and kid&#39\;s activities at this event and increasing our food to draw an even bigger crowd. Live music on Friday night from 6-9. Free shuttle service during peak hours on Friday and Saturday. More than 100 artists!<br />\n<br />\nFor vendors we have on sit security on both Friday and Saturday night. Set-up begins on Thursday afternoon (1-7pm) or Friday (8-noon).</span>
LOCATION:Mary Park\, New Richmond Wisconsin 54017
UID:e.249.7280
SEQUENCE:3
DTSTAMP:20260421T032352Z
URL:http://business.newrichmondchamber.com/events/details/2024-park-art-fair-7280
END:VEVENT

END:VCALENDAR
