BEGIN:VCALENDAR
VERSION:2.0
PRODID:-//ChamberMaster//Event Calendar 2.0//EN
METHOD:PUBLISH
X-PUBLISHED-TTL:P3D
REFRESH-INTERVAL:P3D
CALSCALE:GREGORIAN
BEGIN:VEVENT
DTSTART;VALUE=DATE:20241116
DTEND;VALUE=DATE:20241124
TRANSP:TRANSPARENT
X-MICROSOFT-CDO-ALLDAYEVENT:TRUE
SUMMARY:2024 Holiday Hop
DESCRIPTION:Visit participating shops\, check out their holiday runner kits and be entered to in a gift basket worth $75.00 The Grain Bin Market\, Boyceville\, WI Topstitchery\, Roberts\, WI Affinity for Quilts White Bear\, MN Doyle's Farm & Home\, New Richmond\, WI Fiber Lab\, Menomonie\, WI Little Piece of Mind\, New Richmond\, WI Angela's Quilting Studio\, Dallas\, WI Marigold Quilt Shop\, Glenwood City\, WI Quilt Shop Co-Op Minneapolis\, MIN
X-ALT-DESC;FMTTYPE=text/html:Visit participating shops\, check out their holiday runner kits and be entered to in a gift basket worth $75.00 The Grain Bin Market\, Boyceville\, WI Topstitchery\, Roberts\, WI Affinity for Quilts White Bear\, MN Doyle&#39\;s Farm &amp\; Home\, New Richmond\, WI Fiber Lab\, Menomonie\, WI Little Piece of Mind\, New Richmond\, WI Angela&#39\;s Quilting Studio\, Dallas\, WI Marigold Quilt Shop\, Glenwood City\, WI Quilt Shop Co-Op Minneapolis\, MIN
LOCATION:Various Quilt Shops
UID:e.249.7733
SEQUENCE:3
DTSTAMP:20260420T192606Z
URL:http://business.newrichmondchamber.com/events/details/2024-holiday-hop-7733
END:VEVENT

END:VCALENDAR
