BEGIN:VCALENDAR
VERSION:2.0
PRODID:-//ChamberMaster//Event Calendar 2.0//EN
METHOD:PUBLISH
X-PUBLISHED-TTL:P3D
REFRESH-INTERVAL:P3D
CALSCALE:GREGORIAN
BEGIN:VEVENT
DTSTART;VALUE=DATE:20240711
DTEND;VALUE=DATE:20240715
TRANSP:TRANSPARENT
X-MICROSOFT-CDO-ALLDAYEVENT:TRUE
SUMMARY:2024 Fun Fest
DESCRIPTION:One of the region's most popular summer festivals\, Fun Fest attracts thousands of people each July who are drawn to great music\, great food and one of the best carnivals in the state.  The event is back again where it belongs---in the heart of downtown New Richmond!
X-ALT-DESC;FMTTYPE=text/html:One of the region&#39\;s most popular summer festivals\, Fun Fest attracts <strong>thousands</strong> of people each July who are drawn to great music\, great food and one of the best carnivals in the state.&nbsp\; The event is back again where it belongs---in the heart of downtown New Richmond!
LOCATION:Downtown New Richmond. Food Court behind Wild Badger. Beer Tent behind Champs Sports Bar and Mallards. Carnival adjacent to the beer garden and food court.
UID:e.249.7281
SEQUENCE:3
DTSTAMP:20260421T015257Z
URL:http://business.newrichmondchamber.com/events/details/2024-fun-fest-7281
END:VEVENT

END:VCALENDAR
