BEGIN:VCALENDAR
VERSION:2.0
PRODID:-//ChamberMaster//Event Calendar 2.0//EN
METHOD:PUBLISH
X-PUBLISHED-TTL:P3D
REFRESH-INTERVAL:P3D
CALSCALE:GREGORIAN
BEGIN:VEVENT
DTSTART:20240520T160000Z
DTEND:20240520T220000Z
X-MICROSOFT-CDO-ALLDAYEVENT:FALSE
SUMMARY:2024 Chamber Golf Outing
DESCRIPTION:Spend a day with all the community and business leaders in New Richmond at one of the region's top golf courses.  This is one of the first golf outings of the year and it always is a good time---a event where you can network\, make some new contacts and what better way to start a week our of the office on a Monday.
X-ALT-DESC;FMTTYPE=text/html:Spend a day with all the community and business leaders in New Richmond at one of the region&#39\;s top golf courses.&nbsp\; This is one of the first golf outings of the year and it always is a good time---a event where you can network\, make some new contacts and what better way to start a week our of the office on a Monday.
LOCATION:New Richmond Golf Club
UID:e.249.7279
SEQUENCE:3
DTSTAMP:20260421T044441Z
URL:http://business.newrichmondchamber.com/events/details/2024-chamber-golf-outing-7279
END:VEVENT

END:VCALENDAR
