BEGIN:VCALENDAR
VERSION:2.0
PRODID:-//ChamberMaster//Event Calendar 2.0//EN
METHOD:PUBLISH
X-PUBLISHED-TTL:P3D
REFRESH-INTERVAL:P3D
CALSCALE:GREGORIAN
BEGIN:VEVENT
DTSTART:20240131T223000Z
DTEND:20240201T023000Z
X-MICROSOFT-CDO-ALLDAYEVENT:FALSE
SUMMARY:2024 Annual Meeting & Awards Gala
DESCRIPTION:Join us for a great evening of awards\, food\, silent auction deals and the legendary cake auction. This is the Chamber's largest fundraiser that helps support all the major community events that you love: Park Art Fair\, Downtown Fun fest\, and Hometown Holidays. Find out what's on tap for 2024 and recap all the successes in 2023. This is our Superbowl of networking.. Social Hour starts at 4:30-6pm!\n\nThis year's theme is.... YOUR FAVORITE SPORTS TEAM!
X-ALT-DESC;FMTTYPE=text/html:Join us for a great evening of awards\, food\, silent auction deals and the legendary cake auction. This is the Chamber&#39\;s largest fundraiser that helps support all the major community events that you love: Park Art Fair\, Downtown Fun fest\, and Hometown Holidays. Find out what&#39\;s on tap for 2024 and recap all the successes in 2023. This is our Superbowl of networking.. Social Hour starts at 4:30-6pm!<br />\nThis year&#39\;s theme is.... YOUR FAVORITE SPORTS TEAM!
LOCATION:Ready Randy's Banquet Facility 1492 131st St\, New Richmond\, WI 54017
UID:e.249.7276
SEQUENCE:3
DTSTAMP:20260421T110448Z
URL:http://business.newrichmondchamber.com/events/details/2024-annual-meeting-awards-gala-7276
END:VEVENT

END:VCALENDAR
