BEGIN:VCALENDAR
VERSION:2.0
PRODID:-//ChamberMaster//Event Calendar 2.0//EN
METHOD:PUBLISH
X-PUBLISHED-TTL:P3D
REFRESH-INTERVAL:P3D
CALSCALE:GREGORIAN
BEGIN:VEVENT
DTSTART:20230430T160000Z
DTEND:20230430T190000Z
X-MICROSOFT-CDO-ALLDAYEVENT:FALSE
SUMMARY:2023 Women's Business Expo
DESCRIPTION:The area's only women's expo is an event you won't want to miss.   If you're a business looking for exposure\, this event is it with affordable rates for vendor booths. Last year we had 42 businesses and organizations participate\, and 225 attendees\, each who receive a swag bag and box lunch. Enjoy networking\, do some shopping\, learn how to grow your customer base\, and experts will be on hand to answer one on one questions about such topics as: how to manage online reviews\, networking tips\, tax and budgeting advice\, effective marketing opportunities and tips to set up an appealing booth. The event also highlights a Business Woman of the Year.  The public is welcome to attend this event!
X-ALT-DESC;FMTTYPE=text/html:The area&#39\;s only women&#39\;s expo is an event you won&#39\;t want to miss.&nbsp\; &nbsp\;If you&#39\;re a business looking for exposure\, this event is it with affordable rates for vendor booths. Last year we had 42 businesses and organizations participate\, and 225 attendees\, each who receive a swag bag and box lunch. Enjoy networking\, do some shopping\, learn how to grow your customer base\, and experts will be on hand to answer one on one questions about such topics as: how to manage online reviews\, networking tips\, tax and budgeting advice\, effective marketing opportunities and tips to set up an appealing booth. The event also highlights a Business Woman of the Year.&nbsp\; The public is welcome to attend this event!
LOCATION:R & D Catering
UID:e.249.7168
SEQUENCE:3
DTSTAMP:20260422T012556Z
URL:http://business.newrichmondchamber.com/events/details/2023-women-s-business-expo-7168
END:VEVENT

END:VCALENDAR
