BEGIN:VCALENDAR
VERSION:2.0
PRODID:-//ChamberMaster//Event Calendar 2.0//EN
METHOD:PUBLISH
X-PUBLISHED-TTL:P3D
REFRESH-INTERVAL:P3D
CALSCALE:GREGORIAN
BEGIN:VEVENT
DTSTART:20231005T133000Z
DTEND:20231005T143000Z
X-MICROSOFT-CDO-ALLDAYEVENT:FALSE
SUMMARY:2023 Rise and Shine Fundraising Breskfast
DESCRIPTION:Rise is taking a year off from our annual gala and instead\, we are hosting a series of new events throughout 2023\, starting with a fundraising breakfast for our dedicated supporters.\n\nOur committed donors are invited to join Rise's leadership for a delicious breakfast\, inspirational stories\, and updates for the future as we invite them to continue supporting Rise's work opening doors to opportunity for thousands of people with disabilities and other challenges in Minnesota and Western Wisconsin.\n\nThursday\, October 5\, 2023\n\n8:30 am   9:30 am (doors open at 8:00 am)\n\nBunker Hills Event Center\n\n12800 Bunker Prairie Road NW\n\nCoon Rapids\, MN 55448\n\nMenu: Plated meal will include scrambled eggs\, O'Brien potatoes\, bacon & sausage\n\nThe event is free to attend\, RSVP required. Donations to Rise's will be requested.\n\nRSVP with your information to tbrinker@rise.org.\n\nRSVP information to include:\n\n\n	Full names for you and guests\n	Dietary restrictions or allergies to consider and for whom they are needed\n	If ASL interpreting is required and for whom it's needed\n	Any accessibility or wheelchair needs and for whom they are needed\n\n\nWould you like to fill your own table of 8-10 guests with individuals interested in supporting Rise's mission at our fundraising breakfast? Include their full names and any of the above information with your RSVP.\n\nWe are currently seeking event sponsors for our calendar of events throughout 2023\, which includes a celebration picnic\, an online awareness campaign\, and a business forum & networking event. Interested in learning more or sponsoring? Contact Tom at tbrinker@rise.org or 763-792-2450
X-ALT-DESC;FMTTYPE=text/html:<p class="x_x_ContentPasted2" style="margin: 0px 0px 10px\; box-sizing: border-box\; font-size: 18px\; line-height: 1.7\; font-family: Lato\, sans-serif\; color: rgb(42\, 43\, 55) !important\;"><span class="x_x_ContentPasted0 x_ContentPasted0" style="border: 0px\; font-style: inherit\; font-variant: inherit\; font-weight: inherit\; font-stretch: inherit\; font-size: 12pt\; line-height: normal\; font-family: Calibri\, Helvetica\, sans-serif\; margin: 0px\; padding: 0px\; vertical-align: baseline\; color: rgb(0\, 0\, 0) !important\;">Rise is taking a year off from our annual gala and instead\, we are hosting a series of new events throughout 2023\, starting with a fundraising breakfast for our dedicated supporters.</span></p>\n\n<p class="x_x_ContentPasted2" style="margin: 0px 0px 10px\; box-sizing: border-box\; font-size: 18px\; line-height: 1.7\; font-family: Lato\, sans-serif\; color: rgb(42\, 43\, 55) !important\;"><span class="x_x_ContentPasted0 x_ContentPasted0" style="border: 0px\; font-style: inherit\; font-variant: inherit\; font-weight: inherit\; font-stretch: inherit\; font-size: 12pt\; line-height: normal\; font-family: Calibri\, Helvetica\, sans-serif\; margin: 0px\; padding: 0px\; vertical-align: baseline\; color: rgb(0\, 0\, 0) !important\;">Our committed donors are invited to join Rise&rsquo\;s leadership for a delicious breakfast\, inspirational stories\, and updates for the future as we invite them to continue supporting Rise&rsquo\;s work opening doors to opportunity for thousands of people with disabilities and other challenges in Minnesota and Western Wisconsin.</span></p>\n\n<h4 style="box-sizing: border-box\; font-family: Lato\, sans-serif\; margin-top: 10px\; margin-bottom: 10px\; font-size: 24px\; color: rgb(38\, 44\, 102) !important\;"><span style="border: 0px\; font-style: inherit\; font-variant: inherit\; font-stretch: inherit\; font-size: inherit\; line-height: inherit\; font-family: inherit\; margin: 0px\; padding: 0px\; vertical-align: baseline\; color: inherit\;"><span class="x_x_ContentPasted0 x_ContentPasted0" style="border: 0px\; font-style: inherit\; font-variant: inherit\; font-weight: inherit\; font-stretch: inherit\; font-size: 12pt\; line-height: normal\; font-family: Calibri\, Helvetica\, sans-serif\; margin: 0px\; padding: 0px\; vertical-align: baseline\; color: rgb(0\, 0\, 0) !important\;">Thursday\, October 5\, 2023</span></span></h4>\n\n<p class="x_x_ContentPasted2" style="margin: 0px 0px 10px\; box-sizing: border-box\; font-size: 18px\; line-height: 1.7\; font-family: Lato\, sans-serif\; color: rgb(42\, 43\, 55) !important\;"><span class="x_x_ContentPasted0 x_ContentPasted0" style="border: 0px\; font-style: inherit\; font-variant: inherit\; font-weight: inherit\; font-stretch: inherit\; font-size: 12pt\; line-height: normal\; font-family: Calibri\, Helvetica\, sans-serif\; margin: 0px\; padding: 0px\; vertical-align: baseline\; color: rgb(0\, 0\, 0) !important\;">8:30 am &ndash\; 9:30 am</span><span class="x_x_ContentPasted2 x_x_ContentPasted0 x_ContentPasted0" style="border: 0px\; font-style: inherit\; font-variant: inherit\; font-weight: inherit\; font-stretch: inherit\; font-size: 12pt\; line-height: normal\; font-family: Calibri\, Helvetica\, sans-serif\; margin: 0px\; padding: 0px\; vertical-align: baseline\; color: rgb(0\, 0\, 0) !important\;">&nbsp\;</span><span style="border: 0px\; font-style: inherit\; font-variant: inherit\; font-weight: inherit\; font-stretch: inherit\; font-size: 12pt\; line-height: normal\; font-family: Calibri\, Helvetica\, sans-serif\; margin: 0px\; padding: 0px\; vertical-align: baseline\; color: rgb(0\, 0\, 0) !important\;"><em class="x_x_ContentPasted2 x_x_ContentPasted0 x_ContentPasted0" style="box-sizing: border-box\;">(doors open at 8:00 am)</em></span></p>\n\n<h4 style="box-sizing: border-box\; font-family: Lato\, sans-serif\; margin-top: 10px\; margin-bottom: 10px\; font-size: 24px\; color: rgb(38\, 44\, 102) !important\;"><span style="border: 0px\; font-style: inherit\; font-variant: inherit\; font-stretch: inherit\; font-size: inherit\; line-height: inherit\; font-family: inherit\; margin: 0px\; padding: 0px\; vertical-align: baseline\; color: inherit\;"><span class="x_x_ContentPasted0 x_ContentPasted0" style="border: 0px\; font-style: inherit\; font-variant: inherit\; font-weight: inherit\; font-stretch: inherit\; font-size: 12pt\; line-height: normal\; font-family: Calibri\, Helvetica\, sans-serif\; margin: 0px\; padding: 0px\; vertical-align: baseline\; color: rgb(0\, 0\, 0) !important\;">Bunker Hills Event Center</span></span></h4>\n\n<p class="x_x_ContentPasted2" style="margin: 0px 0px 10px\; box-sizing: border-box\; font-size: 18px\; line-height: 1.7\; font-family: Lato\, sans-serif\; color: rgb(42\, 43\, 55) !important\;"><span class="x_x_ContentPasted0 x_ContentPasted0" style="border: 0px\; font-style: inherit\; font-variant: inherit\; font-weight: inherit\; font-stretch: inherit\; font-size: 12pt\; line-height: normal\; font-family: Calibri\, Helvetica\, sans-serif\; margin: 0px\; padding: 0px\; vertical-align: baseline\; color: rgb(0\, 0\, 0) !important\;">12800 Bunker Prairie Road NW</span></p>\n\n<p class="x_x_ContentPasted2" style="margin: 0px 0px 10px\; box-sizing: border-box\; font-size: 18px\; line-height: 1.7\; font-family: Lato\, sans-serif\; color: rgb(42\, 43\, 55) !important\;"><span class="x_x_ContentPasted0 x_ContentPasted0" style="border: 0px\; font-style: inherit\; font-variant: inherit\; font-weight: inherit\; font-stretch: inherit\; font-size: 12pt\; line-height: normal\; font-family: Calibri\, Helvetica\, sans-serif\; margin: 0px\; padding: 0px\; vertical-align: baseline\; color: rgb(0\, 0\, 0) !important\;">Coon Rapids\, MN 55448</span></p>\n\n<h4 style="box-sizing: border-box\; font-family: Lato\, sans-serif\; margin-top: 10px\; margin-bottom: 10px\; font-size: 24px\; color: rgb(38\, 44\, 102) !important\;"><span style="border: 0px\; font-style: inherit\; font-variant: inherit\; font-weight: inherit\; font-stretch: inherit\; font-size: 12pt\; line-height: normal\; font-family: Calibri\, Helvetica\, sans-serif\; margin: 0px\; padding: 0px\; vertical-align: baseline\; color: rgb(0\, 0\, 0) !important\;"><span class="x_x_ContentPasted2 x_x_ContentPasted0 x_ContentPasted0" style="border: 0px\; font-style: inherit\; font-variant: inherit\; font-stretch: inherit\; font-size: inherit\; line-height: inherit\; font-family: inherit\; margin: 0px\; padding: 0px\; vertical-align: baseline\; color: inherit\; box-sizing: border-box\;">Menu: Plated meal will include scrambled eggs\, O&#39\;Brien potatoes\, bacon &amp\; sausage</span></span></h4>\n\n<h4 style="box-sizing: border-box\; font-family: Lato\, sans-serif\; font-weight: 900\; margin-top: 10px\; margin-bottom: 10px\; font-size: 24px\; color: rgb(38\, 44\, 102) !important\;"><span class="x_x_ContentPasted0 x_ContentPasted0" style="border: 0px\; font-style: inherit\; font-variant: inherit\; font-weight: inherit\; font-stretch: inherit\; font-size: 12pt\; line-height: normal\; font-family: Calibri\, Helvetica\, sans-serif\; margin: 0px\; padding: 0px\; vertical-align: baseline\; color: rgb(0\, 0\, 0) !important\;">The event is free to attend\,</span><span class="x_x_ContentPasted2 x_x_ContentPasted0 x_ContentPasted0" style="border: 0px\; font-style: inherit\; font-variant: inherit\; font-weight: inherit\; font-stretch: inherit\; font-size: 12pt\; line-height: normal\; font-family: Calibri\, Helvetica\, sans-serif\; margin: 0px\; padding: 0px\; vertical-align: baseline\; color: rgb(0\, 0\, 0) !important\;">&nbsp\;</span><span style="border: 0px\; font-style: inherit\; font-variant: inherit\; font-weight: inherit\; font-stretch: inherit\; font-size: 12pt\; line-height: normal\; font-family: Calibri\, Helvetica\, sans-serif\; margin: 0px\; padding: 0px\; vertical-align: baseline\; color: rgb(0\, 0\, 0) !important\;"><em style="box-sizing: border-box\;">RSVP required</em></span><span class="x_x_ContentPasted0 x_ContentPasted0" style="border: 0px\; font-style: inherit\; font-variant: inherit\; font-weight: inherit\; font-stretch: inherit\; font-size: 12pt\; line-height: normal\; font-family: Calibri\, Helvetica\, sans-serif\; margin: 0px\; padding: 0px\; vertical-align: baseline\; color: rgb(0\, 0\, 0) !important\;">. Donations to Rise&rsquo\;s will be requested.</span></h4>\n\n<p style="margin: 0px 0px 10px\; box-sizing: border-box\; font-size: 18px\; line-height: 1.7\; font-family: Lato\, sans-serif\; color: rgb(42\, 43\, 55) !important\;"><span style="border: 0px\; font-style: inherit\; font-variant: inherit\; font-weight: inherit\; font-stretch: inherit\; font-size: 12pt\; line-height: normal\; font-family: Calibri\, Helvetica\, sans-serif\; margin: 0px\; padding: 0px\; vertical-align: baseline\; color: rgb(0\, 0\, 0) !important\;"><em class="x_x_ContentPasted2 x_x_ContentPasted0 x_ContentPasted0" style="box-sizing: border-box\;">RSVP with your information to tbrinker@rise.org.</em></span></p>\n\n<p style="margin: 0px 0px 10px\; box-sizing: border-box\; font-size: 18px\; line-height: 1.7\; font-family: Lato\, sans-serif\; color: rgb(42\, 43\, 55) !important\;"><span style="border: 0px\; font-style: inherit\; font-variant: inherit\; font-weight: inherit\; font-stretch: inherit\; font-size: 12pt\; line-height: normal\; font-family: Calibri\, Helvetica\, sans-serif\; margin: 0px\; padding: 0px\; vertical-align: baseline\; color: rgb(0\, 0\, 0) !important\;"><span class="x_x_ContentPasted2 x_x_ContentPasted0 x_ContentPasted0" style="box-sizing: border-box\; font-weight: 700\;">RSVP information to include:</span></span></p>\n\n<ul style="box-sizing: border-box\; margin-top: 0px\; margin-bottom: 10px\; font-family: Lato\, sans-serif\; font-size: 18px\; color: rgb(42\, 43\, 55) !important\;">\n	<li class="x_x_ContentPasted2" style="box-sizing: border-box\; margin-bottom: 6px\; font-family: Calibri\, Helvetica\, sans-serif\; font-size: 12pt\; color: rgb(0\, 0\, 0) !important\;"><span class="x_x_ContentPasted0 x_ContentPasted0" style="border: 0px\; font: inherit\; margin: 0px\; padding: 0px\; vertical-align: baseline\; color: inherit\;">Full names for you and guests</span></li>\n	<li class="x_x_ContentPasted2" style="box-sizing: border-box\; margin-bottom: 6px\; font-family: Calibri\, Helvetica\, sans-serif\; font-size: 12pt\; color: rgb(0\, 0\, 0) !important\;"><span class="x_x_ContentPasted0 x_ContentPasted0" style="border: 0px\; font: inherit\; margin: 0px\; padding: 0px\; vertical-align: baseline\; color: inherit\;">Dietary restrictions or allergies to consider and for whom they are needed</span></li>\n	<li class="x_x_ContentPasted2" style="box-sizing: border-box\; margin-bottom: 6px\; font-family: Calibri\, Helvetica\, sans-serif\; font-size: 12pt\; color: rgb(0\, 0\, 0) !important\;"><span class="x_x_ContentPasted0 x_ContentPasted0" style="border: 0px\; font: inherit\; margin: 0px\; padding: 0px\; vertical-align: baseline\; color: inherit\;">If ASL interpreting is required and for whom it&rsquo\;s needed</span></li>\n	<li class="x_x_ContentPasted2" style="box-sizing: border-box\; margin-bottom: 6px\; font-family: Calibri\, Helvetica\, sans-serif\; font-size: 12pt\; color: rgb(0\, 0\, 0) !important\;"><span class="x_x_ContentPasted0 x_ContentPasted0" style="border: 0px\; font: inherit\; margin: 0px\; padding: 0px\; vertical-align: baseline\; color: inherit\;">Any accessibility or wheelchair needs and for whom they are needed</span></li>\n</ul>\n\n<p class="x_x_ContentPasted2" style="margin: 0px 0px 10px\; box-sizing: border-box\; font-size: 18px\; line-height: 1.7\; font-family: Lato\, sans-serif\; color: rgb(42\, 43\, 55) !important\;"><span class="x_x_ContentPasted0 x_ContentPasted0" style="border: 0px\; font-style: inherit\; font-variant: inherit\; font-weight: inherit\; font-stretch: inherit\; font-size: 12pt\; line-height: normal\; font-family: Calibri\, Helvetica\, sans-serif\; margin: 0px\; padding: 0px\; vertical-align: baseline\; color: rgb(0\, 0\, 0) !important\;">Would you like to</span><span class="x_x_ContentPasted2 x_x_ContentPasted0 x_ContentPasted0" style="border: 0px\; font-style: inherit\; font-variant: inherit\; font-weight: inherit\; font-stretch: inherit\; font-size: 12pt\; line-height: normal\; font-family: Calibri\, Helvetica\, sans-serif\; margin: 0px\; padding: 0px\; vertical-align: baseline\; color: rgb(0\, 0\, 0) !important\;">&nbsp\;</span><span style="border: 0px\; font-style: inherit\; font-variant: inherit\; font-weight: inherit\; font-stretch: inherit\; font-size: 12pt\; line-height: normal\; font-family: Calibri\, Helvetica\, sans-serif\; margin: 0px\; padding: 0px\; vertical-align: baseline\; color: rgb(0\, 0\, 0) !important\;"><em style="box-sizing: border-box\;"><span class="x_x_ContentPasted2 x_x_ContentPasted0 x_ContentPasted0" style="box-sizing: border-box\; font-weight: 700\;">fill your own table</span></em></span><span class="x_x_ContentPasted2 x_x_ContentPasted0 x_ContentPasted0" style="border: 0px\; font-style: inherit\; font-variant: inherit\; font-weight: inherit\; font-stretch: inherit\; font-size: 12pt\; line-height: normal\; font-family: Calibri\, Helvetica\, sans-serif\; margin: 0px\; padding: 0px\; vertical-align: baseline\; color: rgb(0\, 0\, 0) !important\;">&nbsp\;</span><span class="x_x_ContentPasted0 x_ContentPasted0" style="border: 0px\; font-style: inherit\; font-variant: inherit\; font-weight: inherit\; font-stretch: inherit\; font-size: 12pt\; line-height: normal\; font-family: Calibri\, Helvetica\, sans-serif\; margin: 0px\; padding: 0px\; vertical-align: baseline\; color: rgb(0\, 0\, 0) !important\;">of 8-10 guests with individuals interested in supporting Rise&rsquo\;s mission at our fundraising breakfast? Include their full names and any of the above information with your RSVP.</span></p>\n\n<p class="x_x_ContentPasted2" style="margin: 0px 0px 10px\; box-sizing: border-box\; font-size: 18px\; line-height: 1.7\; font-family: Lato\, sans-serif\; color: rgb(42\, 43\, 55) !important\;"><span class="x_x_ContentPasted0 x_ContentPasted0" style="border: 0px\; font-style: inherit\; font-variant: inherit\; font-weight: inherit\; font-stretch: inherit\; font-size: 12pt\; line-height: normal\; font-family: Calibri\, Helvetica\, sans-serif\; margin: 0px\; padding: 0px\; vertical-align: baseline\; color: rgb(0\, 0\, 0) !important\;">We are currently seeking</span><span class="x_x_ContentPasted2 x_x_ContentPasted0 x_ContentPasted0" style="border: 0px\; font-style: inherit\; font-variant: inherit\; font-weight: inherit\; font-stretch: inherit\; font-size: 12pt\; line-height: normal\; font-family: Calibri\, Helvetica\, sans-serif\; margin: 0px\; padding: 0px\; vertical-align: baseline\; color: rgb(0\, 0\, 0) !important\;">&nbsp\;</span><span style="border: 0px\; font-style: inherit\; font-variant: inherit\; font-weight: inherit\; font-stretch: inherit\; font-size: 12pt\; line-height: normal\; font-family: Calibri\, Helvetica\, sans-serif\; margin: 0px\; padding: 0px\; vertical-align: baseline\; color: rgb(0\, 0\, 0) !important\;"><span class="x_x_ContentPasted2 x_x_ContentPasted0 x_ContentPasted0" style="box-sizing: border-box\; font-weight: 700\;">event sponsors</span></span><span class="x_x_ContentPasted2 x_x_ContentPasted0 x_ContentPasted0" style="border: 0px\; font-style: inherit\; font-variant: inherit\; font-weight: inherit\; font-stretch: inherit\; font-size: 12pt\; line-height: normal\; font-family: Calibri\, Helvetica\, sans-serif\; margin: 0px\; padding: 0px\; vertical-align: baseline\; color: rgb(0\, 0\, 0) !important\;">&nbsp\;</span><span class="x_x_ContentPasted0 x_ContentPasted0" style="border: 0px\; font-style: inherit\; font-variant: inherit\; font-weight: inherit\; font-stretch: inherit\; font-size: 12pt\; line-height: normal\; font-family: Calibri\, Helvetica\, sans-serif\; margin: 0px\; padding: 0px\; vertical-align: baseline\; color: rgb(0\, 0\, 0) !important\;">for our calendar of events throughout 2023\, which includes a celebration picnic\, an online awareness campaign\, and a business forum &amp\; networking event. Interested in learning more or sponsoring? Contact Tom at tbrinker@rise.org or 763-792-2450</span></p>\n
LOCATION:Bunker Hills Event Center 12800 Bunker Prairie Road NW Coon Rapids\, MN 55448
UID:e.249.7241
SEQUENCE:3
DTSTAMP:20260421T155617Z
URL:http://business.newrichmondchamber.com/events/details/2023-rise-and-shine-fundraising-breskfast-7241
END:VEVENT

END:VCALENDAR
