BEGIN:VCALENDAR
VERSION:2.0
PRODID:-//ChamberMaster//Event Calendar 2.0//EN
METHOD:PUBLISH
X-PUBLISHED-TTL:P3D
REFRESH-INTERVAL:P3D
CALSCALE:GREGORIAN
BEGIN:VEVENT
DTSTART;VALUE=DATE:20230602
DTEND;VALUE=DATE:20230604
TRANSP:TRANSPARENT
X-MICROSOFT-CDO-ALLDAYEVENT:TRUE
SUMMARY:2023 Park Art Fair
DESCRIPTION:The New Richmond Area Chamber of Commerce & Visitors Bureau proudly invites you to join us on June 2 & 3\, 2023 for the   Annual Park Art Fair.  This popular event attracts huge crowds\, and we encourage you to share the experience and join the fun.  In 2018 we were awarded a tourism grant that allowed us to extend our reach in advertising for this event and it continues to grow in popularity. We are ramping up the FREE family and kid's activities at this event and increasing our food to draw an even bigger crowd.
X-ALT-DESC;FMTTYPE=text/html:<span style="color: rgb(0\, 0\, 0)\; margin: 0px\; font-family: Calibri\, sans-serif\; font-size: 11pt\;">The New Richmond Area Chamber of Commerce &amp\; Visitors Bureau proudly invites you to join us on June 2 &amp\; 3\, 2023 for the &nbsp\;</span><sup style="color: rgb(0\, 0\, 0)\;"><span style="margin: 0px\; font-family: Calibri\, sans-serif\; font-size: 7.5pt\;">&nbsp\;</span></sup><span style="color: rgb(0\, 0\, 0)\; margin: 0px\; font-family: Calibri\, sans-serif\; font-size: 11pt\;">Annual Park Art Fair.<span style="margin: 0px\;">&nbsp\;&nbsp\;</span>This popular event attracts huge crowds\, and we encourage you to share the experience and join the fun.<span style="margin: 0px\;">&nbsp\;&nbsp\;</span>In 2018 we were awarded a tourism grant that allowed us to extend our reach in advertising for this event and it continues to grow in popularity. We are ramping up the FREE family and kid&#39\;s activities at this event and increasing our food to draw an even bigger crowd.&nbsp\;</span>
LOCATION:Mary Park\, New Richmond Wisconsin 54017
UID:e.249.7005
SEQUENCE:3
DTSTAMP:20260421T215811Z
URL:http://business.newrichmondchamber.com/events/details/2023-park-art-fair-7005
END:VEVENT

END:VCALENDAR
