BEGIN:VCALENDAR
VERSION:2.0
PRODID:-//ChamberMaster//Event Calendar 2.0//EN
METHOD:PUBLISH
X-PUBLISHED-TTL:P3D
REFRESH-INTERVAL:P3D
CALSCALE:GREGORIAN
BEGIN:VEVENT
DTSTART:20220503T160000Z
DTEND:20220503T190000Z
X-MICROSOFT-CDO-ALLDAYEVENT:FALSE
SUMMARY:2022 Women's Business Expo
DESCRIPTION:The Chamber Women's Business Expo is back after a two year hiatus due to the pandemic.  If you're a business looking for exposure\, this event is it with affordable rates for vendor booths.  Attendees receive a swag bag and box lunch which more than cover the cost of admission.  Enjoy networking\, do some shopping and see firsthand who is New Richmond area's Business Woman of the Year.
X-ALT-DESC;FMTTYPE=text/html:The Chamber Women&#39\;s Business Expo is back after a two year hiatus due to the pandemic.&nbsp\; If you&#39\;re a business looking for exposure\, this event is it with affordable rates for vendor booths.&nbsp\; Attendees receive a swag bag and box lunch which more than cover the cost of admission.&nbsp\; Enjoy networking\, do some shopping and see firsthand who is New Richmond area&#39\;s Business Woman of the Year.&nbsp\;&nbsp\;
LOCATION:R and D Catering
UID:e.249.6977
SEQUENCE:3
DTSTAMP:20260422T200750Z
URL:http://business.newrichmondchamber.com/events/details/2022-women-s-business-expo-6977
END:VEVENT

END:VCALENDAR
