BEGIN:VCALENDAR
VERSION:2.0
PRODID:-//ChamberMaster//Event Calendar 2.0//EN
METHOD:PUBLISH
X-PUBLISHED-TTL:P3D
REFRESH-INTERVAL:P3D
CALSCALE:GREGORIAN
BEGIN:VEVENT
DTSTART:20220603T190000Z
DTEND:20220604T190000Z
X-MICROSOFT-CDO-ALLDAYEVENT:FALSE
SUMMARY:2022 Park Art Fair
DESCRIPTION:The New Richmond Area Chamber of Commerce & Visitors Bureau proudly invites you to join us on June 3 & 4\, 2022 for the   Annual Park Art Fair.  This popular event attracts huge crowds and we encourage you to share the experience and join the fun.  In 2018 we were awarded a tourism grant that allowed us to extend our reach in advertising for this event and it continues to grow in popularity. We are ramping up the FREE family and kid's activities at this event and increasing our food to draw an even bigger crowd.
X-ALT-DESC;FMTTYPE=text/html:<div>\n<p style="margin: 0px\;"><font color="#000000"><span style="margin: 0px\; font-family: &quot\;Calibri&quot\;\,sans-serif\; font-size: 11pt\;">The New Richmond Area Chamber of Commerce &amp\; Visitors Bureau proudly invites you to join us on June 3&nbsp\;&amp\; 4\, 2022&nbsp\;for the &nbsp\;</span><sup><span style="margin: 0px\; font-family: &quot\;Calibri&quot\;\,sans-serif\; font-size: 7.5pt\;"><span style="margin: 0px\;">&nbsp\;</span></span></sup><span style="margin: 0px\; font-family: &quot\;Calibri&quot\;\,sans-serif\; font-size: 11pt\;">Annual Park Art Fair.<span style="margin: 0px\;">&nbsp\; </span>This popular event attracts huge crowds and we encourage you to share the experience and join the fun.<span style="margin: 0px\;">&nbsp\; </span>In 2018 we were awarded a tourism grant that allowed us to extend our reach in advertising for this event and it continues to grow in popularity. We are ramping up the FREE family and kid&#39\;s activities at this event and increasing our food to draw an even bigger crowd. </span></font></p>\n</div>\n
LOCATION:Mary Park - New Richmond\, WI
UID:e.249.6952
SEQUENCE:3
DTSTAMP:20260422T182904Z
URL:http://business.newrichmondchamber.com/events/details/2022-park-art-fair-6952
END:VEVENT

END:VCALENDAR
