BEGIN:VCALENDAR
VERSION:2.0
PRODID:-//ChamberMaster//Event Calendar 2.0//EN
METHOD:PUBLISH
X-PUBLISHED-TTL:P3D
REFRESH-INTERVAL:P3D
CALSCALE:GREGORIAN
BEGIN:VEVENT
DTSTART:20221202T000000Z
DTEND:20221202T013000Z
X-MICROSOFT-CDO-ALLDAYEVENT:FALSE
SUMMARY:2022 Hometown Holiday
DESCRIPTION:Don't miss one of the premier holiday parades in the state of WI\, with New Richmond's Hometown Holiday Parade....last  year an estimated 6000 people attended the celebration to watch a record 48 parade units\, and the tree lighting and downtown fireworks that followed.  The event started in 2017 and has grown each year it's been held.  You can sponsor the event and/or have a parade unit.
X-ALT-DESC;FMTTYPE=text/html:Don&#39\;t miss one of the premier holiday parades in the state of WI\, with New Richmond&#39\;s Hometown Holiday Parade....last&nbsp\; year an estimated 6000 people attended the celebration to watch a record 48 parade units\, and the tree lighting and downtown fireworks that followed.&nbsp\; The event started in 2017 and has grown each year it&#39\;s been held.&nbsp\; You can sponsor the event and/or have a parade unit.&nbsp\;&nbsp\;
LOCATION:Downtown New Richmond The parade starts on 5th St\, runs north four blocks to 1st St\, where units turn left and disperse. Parade lineup begins at 4:30 on W. 5th behind Dick's Fresh Market.
UID:e.249.7002
SEQUENCE:3
DTSTAMP:20260422T085639Z
URL:http://business.newrichmondchamber.com/events/details/2022-hometown-holiday-7002
END:VEVENT

END:VCALENDAR
