BEGIN:VCALENDAR
VERSION:2.0
PRODID:-//ChamberMaster//Event Calendar 2.0//EN
METHOD:PUBLISH
X-PUBLISHED-TTL:P3D
REFRESH-INTERVAL:P3D
CALSCALE:GREGORIAN
BEGIN:VEVENT
DTSTART:20221014T210000Z
DTEND:20221015T190000Z
X-MICROSOFT-CDO-ALLDAYEVENT:FALSE
SUMMARY:2022 Apple Fest
DESCRIPTION:New Richmond Chamber Apple Fest\, now in its third year\, offers a great two days of arts/crafts\, live music and food trucks.  The event is growing every year and more than 40 vendors participate.
X-ALT-DESC;FMTTYPE=text/html:New Richmond Chamber Apple Fest\, now in its third year\, offers a great two days of arts/crafts\, live music and food trucks.&nbsp\; The event is growing every year and more than 40 vendors participate.
LOCATION:R and D Catering\, Hwy 65 just south of New Richmond
UID:e.249.6993
SEQUENCE:3
DTSTAMP:20260422T121746Z
URL:http://business.newrichmondchamber.com/events/details/2022-apple-fest-6993
END:VEVENT

END:VCALENDAR
