BEGIN:VCALENDAR
VERSION:2.0
PRODID:-//ChamberMaster//Event Calendar 2.0//EN
METHOD:PUBLISH
X-PUBLISHED-TTL:P3D
REFRESH-INTERVAL:P3D
CALSCALE:GREGORIAN
BEGIN:VEVENT
DTSTART:20220126T223000Z
DTEND:20220127T023000Z
X-MICROSOFT-CDO-ALLDAYEVENT:FALSE
SUMMARY:2022 Annual Meeting & Awards Gala
DESCRIPTION:Wednesday\, January 26\, 2022\n\n4:30pm-6:00pm Social Hour\n\n6:15 Dinner\n\n8:30pm Conclusion\n\n\n\nJoin us for an evening of fun\, networking\, shopping\, cake bidding\, after a year off due to the pandemic. This awards banquet ranks among the largest chamber dinners in the state for a community our size.  New this year a $1000 travel voucher raffle drawing\,  and the usual some fabulous food\, silent auction deals and gargantuan cakes.  This year's theme is the Kentucky Derby with the main entree a bourbon steak.  See you on the last Wed in January to celebrate awards\, and our members' tremendous successes in the midst of these challenging times.
X-ALT-DESC;FMTTYPE=text/html:Wednesday\, January 26\, 2022<br />\n4:30pm-6:00pm Social Hour<br />\n6:15 Dinner<br />\n8:30pm Conclusion<br />\n<br />\nJoin us for an evening of fun\, networking\, shopping\, cake bidding\, after a year off due to the pandemic. This awards banquet ranks among the largest chamber dinners in the state for a community our size.&nbsp\; New this year a $1000 travel voucher raffle drawing\,&nbsp\; and the usual some fabulous food\, silent auction deals and gargantuan cakes.&nbsp\; This year&#39\;s theme is the Kentucky Derby with the main entree a bourbon steak.&nbsp\; See you on the last Wed in January to celebrate awards\, and our members&#39\; tremendous successes in the midst of these challenging times.<br />\n<br />\n<br />\n<br />\n<br />\n&nbsp\;
LOCATION:R&D Banquet Facility at the Corner of Hwy 65 & Cty Rd G
UID:e.249.6948
SEQUENCE:3
DTSTAMP:20260423T043552Z
URL:http://business.newrichmondchamber.com/events/details/2022-annual-meeting-awards-gala-6948
END:VEVENT

END:VCALENDAR
