BEGIN:VCALENDAR
VERSION:2.0
PRODID:-//ChamberMaster//Event Calendar 2.0//EN
METHOD:PUBLISH
X-PUBLISHED-TTL:P3D
REFRESH-INTERVAL:P3D
CALSCALE:GREGORIAN
BEGIN:VEVENT
DTSTART:20251009T190000Z
DTEND:20251010T000000Z
X-MICROSOFT-CDO-ALLDAYEVENT:FALSE
SUMMARY:1st Annual Sheriffs' Team Challenge - Hosted by Xcel Energy\, supported United Way
DESCRIPTION:Join us on October 9th from 2:00pm to 5:00pm at Game Unlimited Sporting Clays in Hudson\, WI\, for the Sheriffs' Team Challenge: Clays for Community\, an exhilarating clay shooting tournament hosted in partnership with Xcel Energy\, and Washington County Sheriff Dan Starry and St. Croix County Sheriff Scott Knudson. This exciting event will bring together teams of four to showcase their shooting skills while fostering camaraderie and friendly competition across the river. All proceeds will benefit the United Way of Washington County-East and the United Way of St. Croix & Red Cedar Valleys\, working together to empower local families and strengthen neighborhoods.
X-ALT-DESC;FMTTYPE=text/html:Join us on October 9th from 2:00pm to 5:00pm at Game Unlimited Sporting Clays in Hudson\, WI\, for the Sheriffs&#39\; Team Challenge: Clays for Community\, an exhilarating clay shooting tournament hosted in partnership with Xcel Energy\, and Washington County Sheriff Dan Starry and St. Croix County Sheriff Scott Knudson.&nbsp\;This exciting event will bring together teams of four to showcase their shooting skills while fostering camaraderie and friendly competition across the river. All proceeds will benefit the United Way of Washington County-East and the United Way of St. Croix &amp\; Red Cedar Valleys\, working together to empower local families and strengthen neighborhoods.
LOCATION:Game Unlimited Sporting Clays 871 County Rd E Hudson\, WI 54016
UID:e.249.7914
SEQUENCE:3
DTSTAMP:20260420T001612Z
URL:http://business.newrichmondchamber.com/events/details/1st-annual-sheriffs-team-challenge-hosted-by-xcel-energy-7914
END:VEVENT

END:VCALENDAR
